BEGIN:VCALENDAR
VERSION:2.0
PRODID:-//wp-events-plugin.com//7.2.3.1//EN
TZID:America/Chicago
X-WR-TIMEZONE:America/Chicago
BEGIN:VEVENT
UID:602@kicmke.org
DTSTART;TZID=America/Chicago:20260124T074500
DTEND;TZID=America/Chicago:20260124T091500
DTSTAMP:20251211T191419Z
URL:https://kicmke.org/events/distribute-winter-hygiene-kits-jan-2026/
SUMMARY:[MLK] Distribute Winter Hygiene Kits with Mr. Bob’s Under the Bri
 dge
DESCRIPTION:REGISTER HERE\nKIC kids and their caregivers will assemble wint
 er hygiene kits during our MLK Day of Service program to distribute to Mil
 waukee residents living with housing insecurity.\nEvery Saturday morning\,
  volunteers from Mr. Bob’s Under the Bridge gather at Kosciuszko Park to
  serve Milwaukee residents in need of additional support. They provide nec
 essities such as food\, hygiene items\, clothing\, and access to bathe in 
 a mobile shower trailer. Alongside the basics\, the volunteers provide war
 m coffee and snacks\, encouraging fellowship and emotional support while c
 reating a sense of community.\n\nActivities\nYour family will distribute o
 ur winter hygiene kits to the men\, women\, and children who visit the wee
 kly Saturday morning outreach program. You may also have the opportunity t
 o help distribute clothing\, and blankets or serve coffee and snacks.\n\nI
 mpact\nYour children will gain firsthand experience with Milwaukee residen
 ts living with housing insecurity and learn that they can make a big diffe
 rence and help create change in their community by spreading warmth and lo
 ve throughout Milwaukee.\n\nWhen &amp\; Where\nSaturday\, Jan. 24 from 7:4
 5-9:15 a.m.\nKosciuszko Park\n2201 S. 7th Street\, Milwaukee 53215\n\nRegi
 stration Information\nParticipant Cap: 6 volunteers\nAge: Age 12+\nCost: F
 ree\nMaterials: Dress for the weather as you will be outside for the full 
 hour and a half. Coats\, hats\, boots\, and mittens are recommended. Bring
  hand warmers if you think you’ll need them.\nQuestions: Email erin@kicm
 ke.org with any specific questions.\nCancellations: We count on our regist
 ered volunteers to make these projects come to life. However\, we understa
 nd illness and emergencies do come up so if you can no longer participate\
 , please email erin@kicmke.org ASAP so we can fill your spot.\n\nOur Partn
 er\nMr. Bob’s Under the Bridge is a primarily volunteer-run organization
  that fosters a community of compassion and friendship by providing basic 
 necessities such as clothing and hygiene products to those living with hou
 sing insecurity\, those who need support\, and the surrounding Milwaukee c
 ommunity. Learn more about Mr. Bob’s Under the Bridge on their website.\
 n\nMLK National Day of Service Series\nCelebrate the legacy of Dr. Martin 
 Luther King\, Jr. as we help our children build a world where all people a
 re treated with kindness and respect. Browse the events a part of our MLK 
 service series.
ATTACH;FMTTYPE=image/jpeg:https://kicmke.org/wp-content/uploads/2025/11/Mr
 -Bobs-Under-the-Bridge.png
CATEGORIES:Children and Families
END:VEVENT
BEGIN:VTIMEZONE
TZID:America/Chicago
X-LIC-LOCATION:America/Chicago
BEGIN:STANDARD
DTSTART:20251102T010000
TZOFFSETFROM:-0500
TZOFFSETTO:-0600
TZNAME:CST
END:STANDARD
END:VTIMEZONE
END:VCALENDAR