BEGIN:VCALENDAR
VERSION:2.0
PRODID:-//wp-events-plugin.com//7.2.3.1//EN
TZID:America/Chicago
X-WR-TIMEZONE:America/Chicago
BEGIN:VEVENT
UID:598@kicmke.org
DTSTART;TZID=America/Chicago:20251219T100000
DTEND;TZID=America/Chicago:20251219T110000
DTSTAMP:20251121T201743Z
URL:https://kicmke.org/events/december-intergenerational-service-play-2025
 /
SUMMARY:December Intergenerational Service & Play - Hamilton House Senior L
 iving
DESCRIPTION:REGISTER HERE\nHave a cherished experience with your children a
 nd grandfriends from Hamilton House Senior Living in a true intergeneratio
 nal fashion. This is a great chance for your little one(s) to get out and 
 meet new kids and brighten the day of seniors.\nActivities \nOur playgrou
 p will provide an opportunity to children\, parents\, and assisted living 
 residents to interact and play with each other in a relaxed and friendly e
 nvironment. We will open with a hello song to break the ice and introduce 
 ourselves to the group. During the playgroup time\, they will have a blast
  creating something that will help support a shared cause.\n\nImpact\nInte
 rgenerational playgroups give children a true intergenerational experience
  while learning patience\, kindness\, and how to make new friends. Childre
 n will develop awareness of and relationships with members of the communit
 y they would otherwise not meet.\nOur friends at Hamilton House benefit tr
 emendously from the interaction with our children. Residents in the memory
  care unit of Hamilton House will have a chance to be around our energetic
  and humorous littles and offer their love and gentle care for them.\n\nWh
 en &amp\; Where\nFriday\, Dec. 19 from 10-11 a.m.  \n\nHamilton House\nW7
 6N629 N Wauwatosa Rd.\nCedarburg\, WI 53012\nRegistration Information\nPar
 ticipant Cap: 5 families\nAges: All ages welcome!\nCost: This group is fre
 e to attend\, but you’re welcome to make a donation to support this and 
 future KIC service projects.\nMaterials: Bring your openness &amp\; creati
 vity!\nQuestions: If you have any questions\, please contact Sara Block a
 t sara@kicmke.org.\nCancelations: We count on our registered volunteers to
  make these projects come to life. However\, we understand illness and eme
 rgencies do come up so if you can no longer participate\, please email sar
 a@kicmke.org ASAP so we can fill your spot.\n\nOur Partner\nHamilton House
  is a beautiful residential community in the heart of Cedarburg directly a
 cross from the local middle school. They provide apartments designed for i
 ndependent and assisted living\, as well as memory care options. We are pa
 rtnering specifically with the residents in the memory care unit. Please v
 isit the Hamilton House website for additional information.
ATTACH;FMTTYPE=image/jpeg:https://kicmke.org/wp-content/uploads/2025/11/In
 tergeneratinal-Hamilton-House.jpg
CATEGORIES:Seniors
END:VEVENT
BEGIN:VTIMEZONE
TZID:America/Chicago
X-LIC-LOCATION:America/Chicago
BEGIN:STANDARD
DTSTART:20251102T010000
TZOFFSETFROM:-0500
TZOFFSETTO:-0600
TZNAME:CST
END:STANDARD
END:VTIMEZONE
END:VCALENDAR