BEGIN:VCALENDAR
VERSION:2.0
PRODID:-//wp-events-plugin.com//7.2.3.1//EN
TZID:America/Chicago
X-WR-TIMEZONE:America/Chicago
BEGIN:VEVENT
UID:357@kicmke.org
DTSTART;TZID=America/Chicago:20240620T163000
DTEND;TZID=America/Chicago:20240620T190000
DTSTAMP:20240603T034642Z
URL:https://kicmke.org/events/be-ramp-up-event-helper-lakefront-june2024/
SUMMARY:Be RAMP Up Event Helper Lakefront
DESCRIPTION:REGISTER HERE\nHosted by our partner The Ability Center (TAC)\,
  RAMP Up Milwaukee is a planned outdoor community gathering dedicated to s
 howing our community the wonderful assortment of all-accessible wheels ava
 ilable for public use at the Lakefront.\nActivities\nTAC  is looking for 
 families to assist with the set-up of the event starting at 4:30 p.m. Then
  we will assign various jobs to support the event from 5-7 p.m. This will 
 include leading yard games\, moving equipment around to make the bikes acc
 essible to use throughout the event\, and helping attendees get from “po
 int A to point B”. We ask that families assist with clean-up towards the
  end of the event.\nImpact\nKids will get to use their time and love to su
 pport our partner organization TAC and make a positive difference in the l
 ives of Milwaukee citizens of all abilities.\nWhen &amp\; Where\nThursday\
 , June 20 from 4:30-7 p.m.\n\nWheel Fun Rentals at Veterans Park\n\n1400 N
  Lincoln Memorial Dr.\n\nMilwaukee\, WI 53202\nRegistration Information\nP
 articipant Cap: 5 families\n\nAge: All ages.\n\nCost: Free\n\nMaterials: P
 lease wear weather-appropriate\, comfortable shoes and clothes.\n\nQuestio
 ns: Email lynn@kicmke.org with any specific questions.\n\nCancellations: W
 e count on our registered volunteers to make these projects come to life. 
 However\, we understand illness and emergencies do come up so if you can n
 o longer participate\, please email lynn@kicmke.org ASAP so we can fill yo
 ur spot.\nOur Partner\nFor more information about the event and The Abilit
 y Center\, visit their website.
ATTACH;FMTTYPE=image/jpeg:https://kicmke.org/wp-content/uploads/2024/06/Be
 -a-RAMP-Up-Event-Helper-at-the-Lakefront.png
CATEGORIES:Children and Families
END:VEVENT
BEGIN:VTIMEZONE
TZID:America/Chicago
X-LIC-LOCATION:America/Chicago
BEGIN:DAYLIGHT
DTSTART:20240310T030000
TZOFFSETFROM:-0600
TZOFFSETTO:-0500
TZNAME:CDT
END:DAYLIGHT
END:VTIMEZONE
END:VCALENDAR