BEGIN:VCALENDAR
VERSION:2.0
PRODID:-//wp-events-plugin.com//7.2.3.1//EN
TZID:America/Chicago
X-WR-TIMEZONE:America/Chicago
BEGIN:VEVENT
UID:620@kicmke.org
DTSTART;TZID=America/Chicago:20260110T124500
DTEND;TZID=America/Chicago:20260110T151500
DTSTAMP:20251230T211710Z
URL:https://kicmke.org/events/be-helper-rampup-red-arrow-park-ability-cent
 er-january-2026/
SUMMARY:Be a Helper at RampUp Red Arrow Park with The Ability Center
DESCRIPTION:REGISTER HERE\nHosted by our partner The Ability Center (TAC)\,
  RampUp Red Arrow Park is a planned outdoor community gathering dedicated 
 to sharing ice sleds as an alternative to ice skates at Slice of Ice at Re
 d Arrow Park. Come try out the equipment\, sip some hot cocoa\, and then r
 eturn anytime to Red Arrow Park to enjoy free rentals!\nActivities\nTAC ne
 eds help to:\n\n\n 	- Unload tent\, equipment from the truck\n 	- Bring sl
 eds from storage area\, set-up TAC tent\, etc.\n 	- Fill up hot water at c
 oncessions\n 	- Serve hot chocolate\n 	- Welcome attendees/distribute TAC 
 flyers\n 	- Assist with sleds on/off the sleds and onto the ice\n 	- Clean
  up / load truck\n\nKids (and adults) are also welcome to skate\, and try 
 the ice sleds throughout the event.\n\nImpact\nKids will get to use their 
 time and love to support our partner organization (The Ability Center) to 
 make a positive difference in the lives of Milwaukee citizens of all abili
 ties while having fun at the RampUp Red Arrow Park – Annual Ice Sled Eve
 nt outing.\n\nWhen &amp\; Where\nSaturday\, January 10 from 12:45-3:15 p.m
 .\n\n 	- Specifically\, TAC is looking for 2-3 families to assist with the
  first half of the event from 12:45 p.m. and another 2-3 families to assis
 t with the second half of the event from 2-3:15 p.m. We will assign variou
 s jobs to families at the event.\n\nSlice of Ice @ Red Arrow Park\n920 N W
 ater St\, Milwauke\n\nRegistration Information\nParticipant Cap: 6 famili
 es\n\nAge: All ages.\n\nCost: Free\n\nMaterials: Please wear weather-appro
 priate\, comfortable shoes and clothes.\n\nQuestions: Email lynn@kicmke.or
 g with any specific questions.\n\nCancellations: We count on our registere
 d volunteers to make these projects come to life. However\, we understand 
 illness and emergencies do come up so if you can no longer participate\, p
 lease email lynn@kicmke.org ASAP so we can fill your spot.\nOur Partner\nF
 or more information about the event and The Ability Center\, visit their w
 ebsite.
ATTACH;FMTTYPE=image/jpeg:https://kicmke.org/wp-content/uploads/2025/12/Ra
 mpUp-Red-Arrow-Park-Annual-Ice-Sled-Event-3.png
CATEGORIES:Children and Families
END:VEVENT
BEGIN:VTIMEZONE
TZID:America/Chicago
X-LIC-LOCATION:America/Chicago
BEGIN:STANDARD
DTSTART:20251102T010000
TZOFFSETFROM:-0500
TZOFFSETTO:-0600
TZNAME:CST
END:STANDARD
END:VTIMEZONE
END:VCALENDAR