BEGIN:VCALENDAR
VERSION:2.0
PRODID:-//wp-events-plugin.com//7.2.3.1//EN
TZID:America/Chicago
X-WR-TIMEZONE:America/Chicago
BEGIN:VEVENT
UID:358@kicmke.org
DTSTART;TZID=America/Chicago:20240817T094500
DTEND;TZID=America/Chicago:20240818T170000
DTSTAMP:20240603T035109Z
URL:https://kicmke.org/events/be-an-art-chalk-fest-helper-august2024/
SUMMARY:Be an Art & Chalk Fest Helper
DESCRIPTION:REGISTER HERE\nVolunteer with KIC and our beloved community par
 tner\, the Museum of Wisconsin Art (MOWA)\, at its annual Art &amp\; Chalk
  Fest. The festival features artists from the Wisconsin arts community. Fa
 milies can experience chalk artists creating large-scale works of chalk ar
 t right before their eyes\, watch a glass-blowing demo in a mobile hot sho
 p\, get a caricature drawing of the family\, or see clay sculpted into han
 dmade vessels on a pottery wheel all while listening to live music. There 
 will also be an Activity Zone where you can participate in Chalk the Stree
 t or get creative with hands-on art projects. \nActivities\nCome voluntee
 r during a shift on Saturday\, Aug. 17\, or Sunday\, Aug. 18. By volunteer
 ing\, you'll get a free Art &amp\; Chalk Fest t-shirt and get to stay for 
 the fun before and/or after your shift. A fabulous way to spend a family s
 ummer day! Specifically\, MOWA needs our help with the following jobs:\n\n
  	\n\n 	1) Festival Greeter: Hang out at the entrance and greet people as 
 they enter the festival\, hand out a brochure\, and point people in the ri
 ght direction.\n 	2) Raffle Tent Helper: Sell raffle tickets and instruct 
 people to write their name/phone number on the tickets.\n 	3) Family Activ
 ity Area Helper: Encourage and help families start hands-on art activities
  and refill art supplies as needed.\n 	4) Museum Greeter (inside): Use an 
 attendance clicker to track the number of people entering the museum\, han
 d out bookmarks\, and welcome visitors inside the museum.\n\n\n\nImpact\nK
 ids will get to use their time and love to support MOWA and spread an appr
 eciation and passion for American art in our beautiful state of Wisconsin 
 - all while having a fun time at the Art &amp\; Chalk Fest!\nWhen &amp\; W
 here\nSaturday\, August 17 or Sunday\, August 18\n\nShifts between 9:45 a.
 m.-5 p.m.\n\nMuseum of Wisconsin Art (MOWA)\n\n205 Veterans Avenue\n\nWest
  Bend\, WI 53090\nRegistration Information\nParticipant Cap: 20 families\n
 \nAge: All ages are welcome and encouraged to help\n\nCost: Free\n\nMateri
 als: Please wear weather-appropriate\, comfortable shoes and clothes. A fr
 ee t-shirt will be provided!\n\nQuestions: Email lynn@kicmke.org with any
  specific questions.\nCancellations: We count on our registered volunteers
  to make these projects come to life. However\, we understand illness and 
 emergencies do come up so if you can no longer participate\, please email 
 lynn@kicmke.org ASAP so we can fill your spot.\n\nOur Partner\nFor more in
 formation about the event and the Museum of Wisconsin Art (MOWA)\, visit t
 heir website.
ATTACH;FMTTYPE=image/jpeg:https://kicmke.org/wp-content/uploads/2024/06/Be
 -an-Art-Chalk-Fest-Helper.png
CATEGORIES:Creativity
END:VEVENT
BEGIN:VTIMEZONE
TZID:America/Chicago
X-LIC-LOCATION:America/Chicago
BEGIN:DAYLIGHT
DTSTART:20240310T030000
TZOFFSETFROM:-0600
TZOFFSETTO:-0500
TZNAME:CDT
END:DAYLIGHT
END:VTIMEZONE
END:VCALENDAR