BEGIN:VCALENDAR
VERSION:2.0
PRODID:-//wp-events-plugin.com//7.2.3.1//EN
TZID:America/Chicago
X-WR-TIMEZONE:America/Chicago
BEGIN:VEVENT
UID:482@kicmke.org
DTSTART;TZID=America/Chicago:20250509T173000
DTEND;TZID=America/Chicago:20250509T210000
DTSTAMP:20250410T182154Z
URL:https://kicmke.org/events/all-abilities-open-gym-volunteers-may-2025/
SUMMARY:All-Abilities Open Gym Volunteers
DESCRIPTION:REGISTER HERE\nJoin KIC for an all-abilities Open Gym with The 
 Ability Center (TAC) at the Whitman Middle School in Wauwatosa! Activities
  will include wheelchair basketball\, seated volleyball\, and/or goal ball
  with blindfolds. It will be fun for the whole family!\nActivities\nAttend
 ees are invited to try something new and play in a “different pair of sh
 oes.” All equipment is provided by TAC to engage in wheelchair sports an
 d other adaptive games.\nKIC volunteers will help set up and take down Ope
 n Gym equipment and PLAY :) Volunteers are needed to help bring the sports
  equipment and wheelchairs into the gym from the TAC trailer. Stay to play
  and then help get everything back into the trailer at the end of the prog
 ram.\n\nImpact\nOpen Gym provides an unmatched opportunity of inclusion fo
 r people of all ages and abilities to play together. Events provide a safe
 \, non-competitive environment where TAC ensures everyBODY feels welcomed\
 , wanted\, and comfortable.\n\nWhen &amp\; Where\nFriday\, May 9 from 5:30
 -9 p.m.\n\n\n 	\n\n 	- Set up from 5:30-6 p.m.\n 	- Open Gym from 6-9 p.m.
 \n 	- Take down at 9 p.m. (We know this gets late for some kiddos. If you 
 can only help with the setup\, that is okay. Just let us know!)\n\n\n\nHos
 ted by The Ability Center at Whitman Middle School in Wauwatosa\n11100 W C
 enter St. Milwaukee\, WI 53222\n\nRegistration Information\nParticipants: 
 There is a maximum of 10 participants needed for set-up and take-down. Par
 ticipation in Open Gym is open to the public.\nCost: There is no cost to p
 articipate.\nMaterials: Dress ready for sports play!\nQuestions: If you ha
 ve any questions\, please contact info@kicmke.org.\nCancellations: In the 
 event that circumstances change and you are no longer able to assist\, ple
 ase email info@kicmke.org.\n\nOur Partner\nThe Ability Center’s goal is 
 to provide a higher quality of life for people of all abilities by transfo
 rming Greater Milwaukee into the most universally inclusive recreation des
 tination in the world. Learn more about The Ability Center and its Adaptiv
 e Sports and Recreation opportunities.
ATTACH;FMTTYPE=image/jpeg:https://kicmke.org/wp-content/uploads/2024/01/Al
 l-Abilities-Open-Gym-Volunteers.png
CATEGORIES:Children and Families
END:VEVENT
BEGIN:VTIMEZONE
TZID:America/Chicago
X-LIC-LOCATION:America/Chicago
BEGIN:DAYLIGHT
DTSTART:20250309T030000
TZOFFSETFROM:-0600
TZOFFSETTO:-0500
TZNAME:CDT
END:DAYLIGHT
END:VTIMEZONE
END:VCALENDAR