BEGIN:VCALENDAR
VERSION:2.0
PRODID:-//wp-events-plugin.com//7.2.3.1//EN
TZID:America/Chicago
X-WR-TIMEZONE:America/Chicago
BEGIN:VEVENT
UID:365@kicmke.org
DTSTART;TZID=America/Chicago:20240730T173000
DTEND;TZID=America/Chicago:20240730T203000
DTSTAMP:20240603T000727Z
URL:https://kicmke.org/events/all-abilities-open-gym-volunteers-july-30-20
 24/
SUMMARY:All-Abilities Open Gym Volunteers
DESCRIPTION:REGISTER HERE\nJoin us for an outdoor all-abilities open gym wi
 th The Ability Center (TAC) at Longfellow Middle School in Wauwatosa – i
 ncluding wheelchair basketball\, seated volleyball\, and/or goal ball. Fun
  for the whole family!\n\nActivities\nWe need your assistance with set-up\
 , take-down\, and playing in between. TAC hosts an open gym monthly\, with
  a few extra outdoor opportunities in the summer. Attendees are invited to
  try something new and play in a “different pair of shoes.” Programmin
 g is free and open to the public. All equipment is provided to engage in w
 heelchair sports and other adaptive games.\nImpact\nOpen Gym provides an u
 nmatched opportunity of inclusion for people of all ages and abilities to 
 play together. Events provide a safe\, non-competitive environment where T
 AC ensures everyBODY feels welcomed\, wanted\, and comfortable.\n\nWhen &a
 mp\; Where\nTuesday\, July 30 from 5:30-8:30 p.m. \nLongfellow Middle Scho
 ol\, outdoors on the playground (weather dependent)\n7600 W. North Avenue\
 , Wauwatosa\, WI 53213\nPlease note: KIC will also be volunteering at the 
 July 12 Open Gym Outdoors in Hales Corners - sign up for one or both! \n\
 nRegistration Information\nParticipants: There is a maximum of 10 particip
 ants needed for set-up and take-down. Participation in Open Gym is open to
  the public.\nCost: There is no cost to participate.\nMaterials: Dress rea
 dy for sports play!\nQuestions: If you have any questions please contact j
 oanna@kicmke.org.\nCancellations: If circumstances change and you are no l
 onger able to assist\, please email joanna@kicmke.org.\n\nOur Partner\nLea
 rn more about The Ability Center and their Adaptive Sports and Recreation
  opportunities.
ATTACH;FMTTYPE=image/jpeg:https://kicmke.org/wp-content/uploads/2024/01/Al
 l-Abilities-Open-Gym-Volunteers.png
CATEGORIES:Children and Families
END:VEVENT
BEGIN:VTIMEZONE
TZID:America/Chicago
X-LIC-LOCATION:America/Chicago
BEGIN:DAYLIGHT
DTSTART:20240310T030000
TZOFFSETFROM:-0600
TZOFFSETTO:-0500
TZNAME:CDT
END:DAYLIGHT
END:VTIMEZONE
END:VCALENDAR