BEGIN:VCALENDAR
VERSION:2.0
PRODID:-//wp-events-plugin.com//7.2.3.1//EN
TZID:America/Chicago
X-WR-TIMEZONE:America/Chicago
BEGIN:VEVENT
UID:364@kicmke.org
DTSTART;TZID=America/Chicago:20240712T173000
DTEND;TZID=America/Chicago:20240712T203000
DTSTAMP:20240603T000604Z
URL:https://kicmke.org/events/all-abilities-open-gym-volunteers-july-12-20
 24/
SUMMARY:All-Abilities Open Gym Volunteers
DESCRIPTION:REGISTER HERE\nJoin us for an outdoor all-abilities open gym wi
 th The Ability Center (TAC) at Hales Corners Lutheran Church – including
  wheelchair basketball\, seated volleyball\, and/or goal ball. Fun for the
  whole family!\n\nActivities\nWe need your assistance with set-up\, take-d
 own\, and playing in between. TAC hosts an open gym monthly\, with a few e
 xtra outdoor opportunities in the summer. Attendees are invited to try som
 ething new and play in a “different pair of shoes.” Programming is fre
 e and open to the public. All equipment is provided to engage in wheelchai
 r sports and other adaptive games.\nImpact\nOpen Gym provides an unmatched
  opportunity of inclusion for people of all ages and abilities to play tog
 ether. Events provide a safe\, non-competitive environment where TAC ensur
 es everyBODY feels welcomed\, wanted\, and comfortable.\n\nWhen &amp\; Whe
 re\nFriday\, July 12 from 5:30-8:30 p.m. \nHales Corners Lutheran\, outdoo
 rs on the playground (weather permitting)\n12300 W Janesville Rd #2350\, H
 ales Corners\, WI 53130\nPlease note: KIC will also be volunteering at the
  July 30 Open Gym Outdoors in Wauwatosa - sign up for one or both! \n\nRe
 gistration Information\nParticipants: There is a maximum of 10 participant
 s needed for set-up and take-down. Participation in Open Gym is open to th
 e public.\nCost: There is no cost to participate.\nMaterials: Dress ready 
 for sports play!\nQuestions: If you have any questions please contact joan
 na@kicmke.org.\nCancellations: If circumstances change and you are no long
 er able to assist\, please email joanna@kicmke.org.\n\nOur Partner\nLearn 
 more about The Ability Center and their Adaptive Sports and Recreation op
 portunities.
ATTACH;FMTTYPE=image/jpeg:https://kicmke.org/wp-content/uploads/2024/01/Al
 l-Abilities-Open-Gym-Volunteers.png
CATEGORIES:Children and Families
END:VEVENT
BEGIN:VTIMEZONE
TZID:America/Chicago
X-LIC-LOCATION:America/Chicago
BEGIN:DAYLIGHT
DTSTART:20240310T030000
TZOFFSETFROM:-0600
TZOFFSETTO:-0500
TZNAME:CDT
END:DAYLIGHT
END:VTIMEZONE
END:VCALENDAR