BEGIN:VCALENDAR
VERSION:2.0
PRODID:-//wp-events-plugin.com//7.2.3.1//EN
TZID:America/Chicago
X-WR-TIMEZONE:America/Chicago
BEGIN:VEVENT
UID:414@kicmke.org
DTSTART;TZID=America/Chicago:20241206T173000
DTEND;TZID=America/Chicago:20241206T210000
DTSTAMP:20241103T195046Z
URL:https://kicmke.org/events/all-abilities-open-gym-volunteers-dec-2024/
SUMMARY:All-Abilities Open Gym Volunteers
DESCRIPTION:REGISTER HERE\nJoin us for an outdoor all-abilities open gym wi
 th The Ability Center (TAC) at Whitman Middle School in Wauwatosa – incl
 uding wheelchair basketball\, seated volleyball\, and/or goal ball. Fun fo
 r the whole family!\n\nActivities\nWe need your assistance with set-up\, t
 ake-down\, and playing in between. TAC hosts an open gym monthly\, with a 
 few extra outdoor opportunities in the summer. Attendees are invited to tr
 y something new and play in a “different pair of shoes.” Programming i
 s free and open to the public. All equipment is provided to engage in whee
 lchair sports and other adaptive games.\nImpact\nOpen Gym provides an unma
 tched opportunity of inclusion for people of all ages and abilities to pla
 y together. Events provide a safe\, non-competitive environment where TAC 
 ensures everyBODY feels welcomed\, wanted\, and comfortable.\n\nWhen &amp\
 ; Where\nFriday\, December 6 from 5:30-9 p.m.\n\n 	\n\n 	- Set up from 5:3
 0-6 p.m.\n 	- Open Gym from 6-9 p.m.\n 	- Take down at the end - We know t
 his gets late for some kiddos. If you can only help with setup\, that is o
 kay\, just let us know!\n\n\n\nHosted by The Ability Center at Whitman Mid
 dle School\n11100 W Center St\nMilwaukee\, WI 53222\n\nRegistration Inform
 ation\nParticipants: There is a maximum of 10 participants needed for set-
 up and take-down. Participation in Open Gym is open to the public.\nCost: 
 There is no cost to participate.\nMaterials: Dress ready for sports play!\
 nQuestions: If you have any questions please contact rachel@kicmke.org.\nC
 ancellations: If circumstances change and you are no longer able to assist
 \, please email rachel@kicmke.org.\n\nOur Partner\nThe Ability Center’s 
 goal is to provide a higher quality of life for people of all abilities by
  transforming Greater Milwaukee into the most universally inclusive recrea
 tion destination in the world. Learn more about The Ability Center and the
 ir Adaptive Sports and Recreation opportunities.
ATTACH;FMTTYPE=image/jpeg:https://kicmke.org/wp-content/uploads/2024/01/Al
 l-Abilities-Open-Gym-Volunteers.png
CATEGORIES:Children and Families
END:VEVENT
BEGIN:VTIMEZONE
TZID:America/Chicago
X-LIC-LOCATION:America/Chicago
BEGIN:STANDARD
DTSTART:20241103T010000
TZOFFSETFROM:-0500
TZOFFSETTO:-0600
TZNAME:CST
END:STANDARD
END:VTIMEZONE
END:VCALENDAR