BEGIN:VCALENDAR
VERSION:2.0
PRODID:-//wp-events-plugin.com//7.2.3.1//EN
TZID:America/Chicago
X-WR-TIMEZONE:America/Chicago
BEGIN:VEVENT
UID:212@kicmke.org
DTSTART;TZID=America/Chicago:20230524T103000
DTEND;TZID=America/Chicago:20230524T111500
DTSTAMP:20230505T213859Z
URL:https://kicmke.org/events/6037/
SUMMARY:Intergenerational Playgroups - The Waters of Oak Creek
DESCRIPTION:Older adults have a special place in our hearts. Kids Impact Co
 mmunity has hosted intergenerational playgroups since the organization’s
  inception. Our kiddos have learned patience\, kindness\, and how to make 
 new friends of all ages\, and our "grandfriends" benefit tremendously from
  the interaction with our children.\nRegistration Information\nCLICK HERE 
 TO REGISTER\nParticipant Cap: Maximum of 15 participants\nAge: 0-6 years o
 ld\nCost: Free\nAttire: Masks are recommended\, but not required for visit
 ors. Have your kids dress for play. We play with paint\, bubbles\, markers
 \, and more!\nQuestions: If you have any questions\, please contact Teresa
  Rice at teresa@kicmke.org.\n\nActivities\nAt each playgroup\, we follow t
 he same structure to help children and residents alike become familiar wit
 h and comfortable in the playgroup. We begin with a hello song followed by
  a book\, a craft\, and an activity. If time permits\, we will have free p
 lay followed by our goodbye song. We always have a new fun theme each mont
 h!\n\nPurpose\nTo provide an opportunity for children\, parents\, and assi
 sted living residents to interact and play with each other in a relaxed\, 
 friendly\, and organized environment.\n\nImpact\nChildren will develop awa
 reness of and relationships with members of the community they would other
 wise not meet. Residents in the assisted living facility will have a chanc
 e to be around our energetic and humorous cutie-pies and offer their love 
 and gentle care for them. \n\nWhen and Where\nWednesday\, May 24 from 10:3
 0-11:15 a.m.\n8000 South Market Street\nOak Creek\, WI 53154\n(Located at 
 Drexel Town Square)\nPlease meet in the main lobby.\nParking: The Waters h
 as a small parking lot just off Market Street. There is also street parkin
 g right outside of their entrance. Alternatively\, the Oak Creek Library i
 s located across the street and also has parking.
ATTACH;FMTTYPE=image/jpeg:https://kicmke.org/wp-content/uploads/2023/03/In
 tergenerational-Playgroups-Waters-of-Oak-Creek-3.png
CATEGORIES:Seniors
LOCATION:Drexel Town Square\, 8000 South Market Street\, Oak Creek\, Wiscon
 sin\, 53154\, United States
X-APPLE-STRUCTURED-LOCATION;VALUE=URI;X-ADDRESS=8000 South Market Street\, 
 Oak Creek\, Wisconsin\, 53154\, United States;X-APPLE-RADIUS=100;X-TITLE=D
 rexel Town Square:geo:0,0
END:VEVENT
BEGIN:VTIMEZONE
TZID:America/Chicago
X-LIC-LOCATION:America/Chicago
BEGIN:DAYLIGHT
DTSTART:20230312T030000
TZOFFSETFROM:-0600
TZOFFSETTO:-0500
TZNAME:CDT
END:DAYLIGHT
END:VTIMEZONE
END:VCALENDAR